BEGIN:VCALENDAR
VERSION:2.0
PRODID:-//Huron Manufacturing Association - ECPv6.15.20//NONSGML v1.0//EN
CALSCALE:GREGORIAN
METHOD:PUBLISH
X-WR-CALNAME:Huron Manufacturing Association
X-ORIGINAL-URL:https://huronmanufacturing.ca/location/canada/ontario/stratford/
X-WR-CALDESC:Events for Huron Manufacturing Association
REFRESH-INTERVAL;VALUE=DURATION:PT1H
X-Robots-Tag:noindex
X-PUBLISHED-TTL:PT1H
BEGIN:VTIMEZONE
TZID:America/Toronto
BEGIN:DAYLIGHT
TZOFFSETFROM:-0500
TZOFFSETTO:-0400
TZNAME:EDT
DTSTART:20250309T070000
END:DAYLIGHT
BEGIN:STANDARD
TZOFFSETFROM:-0400
TZOFFSETTO:-0500
TZNAME:EST
DTSTART:20251102T060000
END:STANDARD
BEGIN:DAYLIGHT
TZOFFSETFROM:-0500
TZOFFSETTO:-0400
TZNAME:EDT
DTSTART:20260308T070000
END:DAYLIGHT
BEGIN:STANDARD
TZOFFSETFROM:-0400
TZOFFSETTO:-0500
TZNAME:EST
DTSTART:20261101T060000
END:STANDARD
BEGIN:DAYLIGHT
TZOFFSETFROM:-0500
TZOFFSETTO:-0400
TZNAME:EDT
DTSTART:20270314T070000
END:DAYLIGHT
BEGIN:STANDARD
TZOFFSETFROM:-0400
TZOFFSETTO:-0500
TZNAME:EST
DTSTART:20271107T060000
END:STANDARD
END:VTIMEZONE
BEGIN:VEVENT
DTSTART;TZID=America/Toronto:20260428T090000
DTEND;TZID=America/Toronto:20260428T170000
DTSTAMP:20260421T122336
CREATED:20260402T135247Z
LAST-MODIFIED:20260402T135418Z
UID:4538-1777366800-1777395600@huronmanufacturing.ca
SUMMARY:Forklift Training & Refresher Course
DESCRIPTION:FORKLIFT TRAINING\nCombined with Refresher Training\nThe HMA has organized a combined Forklift Training & Refresher session of the 6-hour Theory portion only. \n\nTuesday\, April 28\, 2026 | 9:00am – 5:00pm\nLocation: Agilec Employment Agency – 41 West St\, Goderich\, ON N7A 2K5\nContact: HMA facilitator Gaby Parejo info@huronmanufacturing.ca or call (519) 520-2732\nPayment: $205.00 Plus HST and Eventbrite fees per person based on a minimum class size requirement. Payment must be received at time of booking.
URL:https://huronmanufacturing.ca/event/forklift-training-refresher-course/
LOCATION:Agilec Employment Agency\, 41 West St.\, Goderich\, Ontario\, N7A 2K5\, Canada
CATEGORIES:Training
ATTACH;FMTTYPE=image/png:https://huronmanufacturing.ca/wp-content/uploads/2024/10/forklift-training-8.png
ORGANIZER;CN="Huron Manufacturing Association":MAILTO:info@huronmanufacturing.ca
END:VEVENT
BEGIN:VEVENT
DTSTART;TZID=America/Toronto:20260429T090000
DTEND;TZID=America/Toronto:20260429T120000
DTSTAMP:20260421T122336
CREATED:20260402T140046Z
LAST-MODIFIED:20260402T140046Z
UID:4542-1777453200-1777464000@huronmanufacturing.ca
SUMMARY:Working at Heights Refresher
DESCRIPTION:Working at Heights Refresher\nAfter 3 years\, workers need to successfully complete a refresher program to keep their training valid for another 3 years. \n\nWednesday\, April 29\, 2026 | 9:00am – 12:00pm\nLocation: Agilec Employment Services – 41 West St\, Goderich\, ON N7A 2K5\nContact: HMA facilitator Gaby Parejo info@huronmanufacturing.ca or call (519) 520-2732\nPayment: $135.00 Plus HST and Eventbrite fees per person based on a minimum class size requirement. Payment must be received at time of booking
URL:https://huronmanufacturing.ca/event/working-at-heights-refresher/
LOCATION:Agilec Employment Agency\, 41 West St.\, Goderich\, Ontario\, N7A 2K5\, Canada
CATEGORIES:Training
ATTACH;FMTTYPE=image/jpeg:https://huronmanufacturing.ca/wp-content/uploads/2024/10/heights-training-4-scaled.jpg
ORGANIZER;CN="Huron Manufacturing Association":MAILTO:info@huronmanufacturing.ca
END:VEVENT
BEGIN:VEVENT
DTSTART;TZID=America/Toronto:20260429T130000
DTEND;TZID=America/Toronto:20260429T160000
DTSTAMP:20260421T122336
CREATED:20260402T140536Z
LAST-MODIFIED:20260402T140536Z
UID:4544-1777467600-1777478400@huronmanufacturing.ca
SUMMARY:Confined Spaces Training
DESCRIPTION:Confined Spaces Training\nTraining will cover various aspects of Confined Space Entry\, including the identification of a confined space\, hazard assessment\, entry requirements\, confined space planning\, rescue requirements\, entry coordination\, etc. \n\nWednesday\, April 29\, 2026 | 1:00pm – 4:00pm\nLocation: Agilec Employment Services – 41 West St\, Goderich\, ON N7A 2K5\nContact: HMA facilitator Gaby Parejo info@huronmanufacturing.ca or call (519) 520-2732\nPayment: $183.00 Plus HST and Eventbrite fees per person based on a minimum class. Payment must be received at time of booking.
URL:https://huronmanufacturing.ca/event/confined-spaces-training/
LOCATION:Agilec Employment Agency\, 41 West St.\, Goderich\, Ontario\, N7A 2K5\, Canada
CATEGORIES:Training
ATTACH;FMTTYPE=image/jpeg:https://huronmanufacturing.ca/wp-content/uploads/2025/02/confined-spaces-manhole-ladder-scaled.jpg
ORGANIZER;CN="Huron Manufacturing Association":MAILTO:info@huronmanufacturing.ca
END:VEVENT
END:VCALENDAR